BEGIN:VCALENDAR
VERSION:2.0
PRODID:-//ADS South West - ECPv6.15.20//NONSGML v1.0//EN
CALSCALE:GREGORIAN
METHOD:PUBLISH
X-ORIGINAL-URL:https://www.weaf.co.uk
X-WR-CALDESC:Events for ADS South West
REFRESH-INTERVAL;VALUE=DURATION:PT1H
X-Robots-Tag:noindex
X-PUBLISHED-TTL:PT1H
BEGIN:VTIMEZONE
TZID:Europe/London
BEGIN:DAYLIGHT
TZOFFSETFROM:+0000
TZOFFSETTO:+0100
TZNAME:BST
DTSTART:20230326T010000
END:DAYLIGHT
BEGIN:STANDARD
TZOFFSETFROM:+0100
TZOFFSETTO:+0000
TZNAME:GMT
DTSTART:20231029T010000
END:STANDARD
BEGIN:DAYLIGHT
TZOFFSETFROM:+0000
TZOFFSETTO:+0100
TZNAME:BST
DTSTART:20240331T010000
END:DAYLIGHT
BEGIN:STANDARD
TZOFFSETFROM:+0100
TZOFFSETTO:+0000
TZNAME:GMT
DTSTART:20241027T010000
END:STANDARD
BEGIN:DAYLIGHT
TZOFFSETFROM:+0000
TZOFFSETTO:+0100
TZNAME:BST
DTSTART:20250330T010000
END:DAYLIGHT
BEGIN:STANDARD
TZOFFSETFROM:+0100
TZOFFSETTO:+0000
TZNAME:GMT
DTSTART:20251026T010000
END:STANDARD
BEGIN:DAYLIGHT
TZOFFSETFROM:+0000
TZOFFSETTO:+0100
TZNAME:BST
DTSTART:20260329T010000
END:DAYLIGHT
BEGIN:STANDARD
TZOFFSETFROM:+0100
TZOFFSETTO:+0000
TZNAME:GMT
DTSTART:20261025T010000
END:STANDARD
BEGIN:DAYLIGHT
TZOFFSETFROM:+0000
TZOFFSETTO:+0100
TZNAME:BST
DTSTART:20270328T010000
END:DAYLIGHT
BEGIN:STANDARD
TZOFFSETFROM:+0100
TZOFFSETTO:+0000
TZNAME:GMT
DTSTART:20271031T010000
END:STANDARD
END:VTIMEZONE
BEGIN:VEVENT
DTSTART;TZID=Europe/London:20260324T090000
DTEND;TZID=Europe/London:20260324T130000
DTSTAMP:20260420T161359
CREATED:20260309T102832Z
LAST-MODIFIED:20260309T102832Z
UID:10000212-1774342800-1774357200@www.weaf.co.uk
SUMMARY:Cheltenham & Gloucester Cluster Meeting
DESCRIPTION:Members are invited to Join the team for the Cheltenham & Gloucester Cluster Meeting \nOur cluster meetings are the perfect opportunity for members to strengthen connections\, share ideas\, and stay informed on key industry developments. \nWhy Attend? \nCuster meetings are designed to bring members together in a relaxed and welcoming environment where you can: \n\nNetwork with fellow WEAF/ADS South West members\nIntroduce your business and raise your profile\nShare experiences and explore collaboration opportunities\nGain valuable industry updates\nBuild meaningful new contacts\nPlenty of Time for Networking\n\n  \nWe understand that connections matter. That’s why we ensure there is dedicated time for open discussion and networking — so you can meet new people\, exchange ideas\, and continue conversations in a friendly\, professional setting. \nIf you would like to attend simply email events@weaf.co.uk
URL:https://www.weaf.co.uk/event/cheltenham-gloucester-cluster-meeting-2/
LOCATION:Gloucester\, Gloucester\, United Kingdom
CATEGORIES:Face to Face,Cluster Meeting
ATTACH;FMTTYPE=image/jpeg:https://www.weaf.co.uk/wp-content/uploads/2026/02/Image-2026-02-24-11.jpeg
ORGANIZER;CN="WEAF":MAILTO:events@weaf.co.uk
END:VEVENT
BEGIN:VEVENT
DTSTART;TZID=Europe/London:20260301T090000
DTEND;TZID=Europe/London:20260301T130000
DTSTAMP:20260420T161359
CREATED:20251125T085600Z
LAST-MODIFIED:20260212T105758Z
UID:10000202-1772355600-1772370000@www.weaf.co.uk
SUMMARY:Cheltenham and Gloucester Cluster Meeting (venue and date TBC)
DESCRIPTION:WEAF is planning our next Cheltenham and Gloucester cluster meeting for March 2026 – Register your interest now to secure a space. \nOur cluster meetings are the perfect opportunity for members to network and grow connections\, they also provide valuable updates on key topics. \nTo register your interest contact events@weaf.co.uk
URL:https://www.weaf.co.uk/event/cheltenham-and-gloucester-cluster-meeting/
LOCATION:TBC\, TBC\, United Kingdom
CATEGORIES:Face to Face,Cluster Meeting
ATTACH;FMTTYPE=image/jpeg:https://www.weaf.co.uk/wp-content/uploads/2024/11/WhatsApp-Image-2024-11-13-at-11.31.04_43e4226c-scaled-e1731943201253.jpg
ORGANIZER;CN="WEAF":MAILTO:events@weaf.co.uk
END:VEVENT
BEGIN:VEVENT
DTSTART;TZID=Europe/London:20260224T090000
DTEND;TZID=Europe/London:20260224T130000
DTSTAMP:20260420T161359
CREATED:20251217T100407Z
LAST-MODIFIED:20260120T101625Z
UID:10000208-1771923600-1771938000@www.weaf.co.uk
SUMMARY:Bristol & Bath Cluster meeting – Shape the Future of Skills in the South West
DESCRIPTION:Members are invited to join the WEAF team and Weston College for a Bristol & Bath Cluster meeting focused on shaping the future Regional Skills Academy.\nThis WEAF member-only cluster event puts industry firmly in the driving seat. Through two fast-paced\, interactive workshops\, your input will directly influence the training\, courses\, and delivery models developed through the new Skills Academy—ensuring they meet the real needs of our sectors. \nWE NEED YOUR INPUT!\nThis event puts industry firmly in the driving seat. Through two fast-paced\, interactive workshops\, your input will directly influence the training\, courses\, and delivery models developed through the new Skills Academy – ensuring they meet the real needs of our sector. \nYou’ll collaborate with key industry and regional partners including Airbus\, Rolls-Royce\, GKN\, NCC and WECA\, who have been working to future-proof the region’s workforce and supply chain. \nYour input will help deliver: \n\nA strong pipeline of job-ready skills\nTraining aligned to the technologies you need most\nClear progression and upskilling opportunities for your workforce\nA more resilient and competitive regional supply chain\n\nThe results of the day along with survey responses\, will help aerospace\, defence and advanced engineering organisations directly influence training provision\, course design\, and delivery models—ensuring that colleges\, universities\, and training providers build programmes that match your needs for 2026–2030. \n \n  \n  \n  \n  \n  \n  \n  \n  \n  \nThis is a pivotal moment for the South West’s engineering and manufacturing sector – and WEAF members need to be at the forefront. \nPlease don’t miss this one-off opportunity to help shape the skills that will drive your company’s future. \nThe event will also provide valuable networking opportunities\, to secure your place contact: events@weaf.co.uk
URL:https://www.weaf.co.uk/event/bristol-bath-cluster-meeting-shape-the-future-of-skills-in-the-south-west-2/
LOCATION:Bristol\, Bristol
CATEGORIES:Face to Face,Cluster Meeting
ATTACH;FMTTYPE=image/jpeg:https://www.weaf.co.uk/wp-content/uploads/2025/05/Round-up-1.jpg
ORGANIZER;CN="WEAF":MAILTO:events@weaf.co.uk
END:VEVENT
BEGIN:VEVENT
DTSTART;TZID=Europe/London:20260219T090000
DTEND;TZID=Europe/London:20260219T130000
DTSTAMP:20260420T161359
CREATED:20251209T090958Z
LAST-MODIFIED:20251215T151234Z
UID:10000205-1771491600-1771506000@www.weaf.co.uk
SUMMARY:Somerset Cluster meeting – A practical AI workshop
DESCRIPTION:Join the WEAF team\, partnering with New Icon to deliver a practical AI workshop at our next Somerset cluster meeting.\n  \nAI\, Automation & What’s Actually Useful:  \n\nA friendly\, practical workshop for aerospace and manufacturing businesses who don’t know where to start.\nYou don’t need to be “good with tech” to attend this workshop.\nIf you’re hearing more and more about AI but aren’t exactly sure what it means for your business\, you’re not alone. And you’re definitely not behind.\nThis workshop is designed for teams who want a first\, clear understanding of AI — without jargon.\n\n  \nThrough the workshop you will learn: \n\nWhat AI and automation actually mean (in plain English).\nReal examples of how businesses like yours are using it right now.\nWhere it can realistically save time\, reduce costs\, and remove frustration.\nEasy\, low-risk ways to get started without changing your whole operation.\nNo pressure. No tech background required.\nJust clarity\, real examples\, and practical next steps.\n\n  \nYou’ll leave with: \n\nA clear understanding of what AI is (and isn’t)\nPractical ideas for your own business\nConfidence to take a first step\n\n  \nNo jargon. No pressure. No technical background needed. \nThe event will also provide valuable networking opportunities\, to secure your place contact: events@weaf.co.uk
URL:https://www.weaf.co.uk/event/somerset-cluster-breakfast-meeting/
LOCATION:iAero Center\, iAero Centre\, Bunford Lane\, Yeovil\, Somerset\, BA20
CATEGORIES:Face to Face,Cluster Meeting
ATTACH;FMTTYPE=image/jpeg:https://www.weaf.co.uk/wp-content/uploads/2025/10/WhatsApp-Image-2025-10-20-at-09.09.08_2c95f7ba.jpg
ORGANIZER;CN="WEAF":MAILTO:events@weaf.co.uk
END:VEVENT
BEGIN:VEVENT
DTSTART;TZID=Europe/London:20251105T090000
DTEND;TZID=Europe/London:20251105T130000
DTSTAMP:20260420T161400
CREATED:20250930T074809Z
LAST-MODIFIED:20251027T110322Z
UID:10000197-1762333200-1762347600@www.weaf.co.uk
SUMMARY:Member's Dorset Cluster Meeting
DESCRIPTION:WEAF is hosting it’s next Devon and Dorset Cluster Meeting at the BattleLab on Wednesday 5th November from 9am-12pm. \nThis session will be focussing on the funding and innovation opportunities to be explored within the area\, explored by thought leaders and industry. You will understand the streams available to you and how you can take action in making your company grow and prosper. \nFurthermore\, we will be gaining insight from local businesses in advanced manufacturing and defence on the significant role Devon and Dorset plays in not only the region\, but the UK. \nAs always networking will be an integral part of the session and refreshments will be provided. \nMember’s are invited to join our cluster meetings based on their regional location\, if you wish to attend and haven’t already been invited then please email ian@weaf.co.uk
URL:https://www.weaf.co.uk/event/devon-dorset-cluster-meeting/
LOCATION:BattleLab\, Dorset Innovation Park\, Winfrith Newburgh\, Wool\, Dorchester\, DT2 8ZB\, United Kingdom
CATEGORIES:Face to Face,Cluster Meeting
ATTACH;FMTTYPE=image/jpeg:https://www.weaf.co.uk/wp-content/uploads/2025/09/WhatsApp-Image-2025-07-09-at-10.40.55_aca026e4.jpg
ORGANIZER;CN="WEAF":MAILTO:events@weaf.co.uk
END:VEVENT
BEGIN:VEVENT
DTSTART;TZID=Europe/London:20250924T090000
DTEND;TZID=Europe/London:20250924T130000
DTSTAMP:20260420T161400
CREATED:20250513T105030Z
LAST-MODIFIED:20250724T082907Z
UID:10000183-1758704400-1758718800@www.weaf.co.uk
SUMMARY:Member's Cheltenham & Gloucester Cluster Meeting
DESCRIPTION:At our next Cheltenham & Gloucester cluster meeting we’re delighted to offer our members the opportunity to learn more about Safran Group and its capabilities within the regional supply chain. \nJoin us for an insightful meeting to understand any current issues or challenges being faced\, with the increasing demand. \nTouch points include: \n\nLabour availability\nTechnology and Innovation (including automation)\nMaterials availability\nSpecial process availability\n\n  \nMember’s are invited to join our cluster meetings based on their regional location\, if you wish to attend and haven’t already been invited then please email ian@weaf.co.uk \nThere will be plenty of opportunity to informally network during the event\, so we encourage all guests to grab a coffee and start chatting to the person next to you!
URL:https://www.weaf.co.uk/event/cheltenham-gloucester-cluster-meeting/
LOCATION:Gloucester\, Gloucester\, United Kingdom
CATEGORIES:Face to Face,Cluster Meeting
ATTACH;FMTTYPE=image/jpeg:https://www.weaf.co.uk/wp-content/uploads/2024/12/WhatsApp-Image-2024-11-13-at-11.31.04_43e4226c.jpg
ORGANIZER;CN="WEAF":MAILTO:events@weaf.co.uk
END:VEVENT
BEGIN:VEVENT
DTSTART;TZID=Europe/London:20250708T090000
DTEND;TZID=Europe/London:20250708T130000
DTSTAMP:20260420T161400
CREATED:20250612T082441Z
LAST-MODIFIED:20250618T080934Z
UID:10000186-1751965200-1751979600@www.weaf.co.uk
SUMMARY:Member's Bristol & Bath Cluster Meeting
DESCRIPTION:We’re delighted to welcome member’s from the Bristol and Bath region to our next local cluster meeting. Cluster meetings are designed to bring members together to network and build connections. \nKey topics: \n\nInnovation\, collaboration and future opportunities update from Airbus\nInnovation\, research and technology action group update from GKN\nSME collaboration case study\nNew member introductions\nOpen discussion on challenges\, innovation\, and partnership opportunities.\nOpportunities to ask questions\n\n  \nThere will be plenty of opportunity to informally network during the event\, so we encourage all guests to grab a coffee and start chatting to the person next to you! \nMember’s are invited to join our cluster meetings based on their regional location\, if you wish to attend and haven’t already been invited then please email ian@weaf.co.uk
URL:https://www.weaf.co.uk/event/members-bristol-bath-cluster-meeting-2/
LOCATION:Bristol\, Bristol
CATEGORIES:Face to Face,Cluster Meeting
ATTACH;FMTTYPE=image/jpeg:https://www.weaf.co.uk/wp-content/uploads/2025/06/Conf-image-5.jpg
ORGANIZER;CN="WEAF":MAILTO:events@weaf.co.uk
END:VEVENT
BEGIN:VEVENT
DTSTART;TZID=Europe/London:20250520T090000
DTEND;TZID=Europe/London:20250520T130000
DTSTAMP:20260420T161400
CREATED:20250512T092410Z
LAST-MODIFIED:20250512T092410Z
UID:10000181-1747731600-1747746000@www.weaf.co.uk
SUMMARY:Member's Out of Region Cluster Meeting
DESCRIPTION:The purpose of this WEAF Cluster Day is to allow members within their area to learn and network with other members. This enables the members to develop business opportunities and make new connections. \nThis free to attend Cluster Day will take place on 20th May at Microchip Technology\, Caldicot.  \nMember’s are invited to join our cluster meetings based on their regional location\, if you wish to attend and haven’t already been invited then please email ian@weaf.co.uk \n  \n\n  \nThere will be plenty of opportunity to informally network during the event\, so we encourage all guests to grab a coffee and start chatting to the person next to you!
URL:https://www.weaf.co.uk/event/members-out-of-region-cluster-meeting/
LOCATION:Microchip Technology\, Phase 2\, Castlegate Business Park Unit 4\, Caldicot\, NP26 5YW
CATEGORIES:Face to Face,Cluster Meeting
ATTACH;FMTTYPE=image/jpeg:https://www.weaf.co.uk/wp-content/uploads/2025/02/Cluster.jpg
ORGANIZER;CN="WEAF":MAILTO:events@weaf.co.uk
END:VEVENT
BEGIN:VEVENT
DTSTART;TZID=Europe/London:20250409T090000
DTEND;TZID=Europe/London:20250409T130000
DTSTAMP:20260420T161400
CREATED:20250206T112802Z
LAST-MODIFIED:20250327T085535Z
UID:10000176-1744189200-1744203600@www.weaf.co.uk
SUMMARY:Member's Devon & Cornwall Cluster Meeting
DESCRIPTION:The purpose of this WEAF Cluster Day is to allow members within their area to learn and network with other members. This enables the members to develop business opportunities and make new connections. \nThis free to attend Cluster Day will take place on 9th April at Parc\, Devon  \nMember’s are invited to join our cluster meetings based on their regional location\, if you wish to attend and haven’t already been invited then please email ian@weaf.co.uk \n  \n\n  \nThere will be plenty of opportunity to informally network during the event\, so we encourage all guests to grab a coffee and start chatting to the person next to you! \nWEAF will replicate this format with future regional Cluster Days to allow you to collaborate\, share and promote your capabilities and ideas across the entire membership.
URL:https://www.weaf.co.uk/event/members-devon-cornwall-cluster-meeting-2/
LOCATION:Parc\, Unit 4 Alverdiscott Road Industrial Estate\, Bideford\, Devon\, EX39 4LQ\, United Kingdom
CATEGORIES:Face to Face,Cluster Meeting
ATTACH;FMTTYPE=image/jpeg:https://www.weaf.co.uk/wp-content/uploads/2024/11/WhatsApp-Image-2024-11-06-at-09.24.16_0a0b6d08-scaled.jpg
ORGANIZER;CN="WEAF":MAILTO:events@weaf.co.uk
END:VEVENT
BEGIN:VEVENT
DTSTART;TZID=Europe/London:20250213T090000
DTEND;TZID=Europe/London:20250213T130000
DTSTAMP:20260420T161400
CREATED:20241031T111523Z
LAST-MODIFIED:20250130T105721Z
UID:10000168-1739437200-1739451600@www.weaf.co.uk
SUMMARY:Member's Devon & Dorset Cluster Meeting
DESCRIPTION:The purpose of this WEAF Cluster Day is to allow members within their area to learn and network with other members. This enables the members to develop business opportunities and make new connections. \nThis free to attend Cluster Day will take place on 13th February in Exeter. Do to security purposes we will only update delegates on the venue. \nMember’s are invited to join our cluster meetings based on their regional location\, if you wish to attend and haven’t already been invited then please email ian@weaf.co.uk \nKey topics to be confirmed. \n\n  \nThere will be plenty of opportunity to informally network during the event\, so we encourage all guests to grab a coffee and start chatting to the person next to you! \nWEAF will replicate this format with future regional Cluster Days to allow you to collaborate\, share and promote your capabilities and ideas across the entire membership.
URL:https://www.weaf.co.uk/event/members-devon-dorset-cluster-meeting-2/
LOCATION:Exeter\, Exeter\, EX1
CATEGORIES:Face to Face,Cluster Meeting
ATTACH;FMTTYPE=image/jpeg:https://www.weaf.co.uk/wp-content/uploads/2024/11/WhatsApp-Image-2024-11-13-at-11.31.04_43e4226c-scaled-e1731943201253.jpg
ORGANIZER;CN="WEAF":MAILTO:events@weaf.co.uk
END:VEVENT
BEGIN:VEVENT
DTSTART;TZID=Europe/London:20250123T090000
DTEND;TZID=Europe/London:20250123T130000
DTSTAMP:20260420T161400
CREATED:20241031T110915Z
LAST-MODIFIED:20250109T111831Z
UID:10000167-1737622800-1737637200@www.weaf.co.uk
SUMMARY:Member's Somerset Cluster Meeting
DESCRIPTION:The purpose of this WEAF Cluster Day is to allow members within their area to learn and network with other members. This enables the members to develop business opportunities and make new connections. \nThis free to attend Cluster Day will take place on 23rd January in Chard\, Somerset. Due to security purposes we will only update delegates on the venue. \nMember’s are invited to join our cluster meetings based on their regional location\, if you wish to attend and haven’t already been invited then please email ian@weaf.co.uk \nKey topics to be confirmed. \n\n  \nThere will be plenty of opportunity to informally network during the event\, so we encourage all guests to grab a coffee and start chatting to the person next to you! \nWEAF will replicate this format with future regional Cluster Days to allow you to collaborate\, share and promote your capabilities and ideas across the entire membership.
URL:https://www.weaf.co.uk/event/members-somerset-cluster-meeting/
LOCATION:Chard\, Yonder Hill\, Chard Junction\, Somerset\, TA20\, United Kingdom
CATEGORIES:Face to Face,Cluster Meeting
ATTACH;FMTTYPE=image/jpeg:https://www.weaf.co.uk/wp-content/uploads/2024/10/Cluster.jpg
ORGANIZER;CN="WEAF":MAILTO:events@weaf.co.uk
END:VEVENT
BEGIN:VEVENT
DTSTART;TZID=Europe/London:20241106T090000
DTEND;TZID=Europe/London:20241106T130000
DTSTAMP:20260420T161400
CREATED:20240716T123802Z
LAST-MODIFIED:20240716T123802Z
UID:10000159-1730883600-1730898000@www.weaf.co.uk
SUMMARY:Member's Cheltenham & Gloucester Cluster Meeting
DESCRIPTION:The purpose of this WEAF Cluster Day is to allow members within their area to learn and network with other members. This enables the members to develop business opportunities and make new connections. \nThis free to attend Cluster Day will take place on 6th November and is kindly hosted by Renishaw. \nMember’s are invited to join our cluster meetings based on their regional location\, if you wish to attend and haven’t already been invited then please email ian@weaf.co.uk \nKey topics to be confirmed. \n\n  \nThere will be plenty of opportunity to informally network during the event\, so we encourage all guests to grab a coffee and start chatting to the person next to you! \nWEAF will replicate this format with future regional Cluster Days to allow you to collaborate\, share and promote your capabilities and ideas across the entire membership.
URL:https://www.weaf.co.uk/event/members-cheltenham-gloucester-cluster-meeting/
LOCATION:Renishaw\, Renishaw plc\, New Mills\, Wotton-Under-Edge\, Gloucestershire\, GL12 8JR\, United Kingdom
CATEGORIES:Face to Face,Cluster Meeting
ATTACH;FMTTYPE=image/png:https://www.weaf.co.uk/wp-content/uploads/2024/07/Workshops-4.png
ORGANIZER;CN="WEAF":MAILTO:events@weaf.co.uk
END:VEVENT
BEGIN:VEVENT
DTSTART;TZID=Europe/London:20240919T090000
DTEND;TZID=Europe/London:20240919T130000
DTSTAMP:20260420T161400
CREATED:20240716T114901Z
LAST-MODIFIED:20240716T135146Z
UID:10000158-1726736400-1726750800@www.weaf.co.uk
SUMMARY:Member's Bristol & Bath Cluster Meeting
DESCRIPTION:The purpose of this WEAF Cluster Day is to allow members within their area to learn and network with other members. This enables the members to develop business opportunities and make new connections. \nThis free to attend Cluster Day will take place on 19th September and is kindly hosted by Cross Manufacturing. \nMember’s are invited to join our cluster meetings based on their regional location\, if you wish to attend and haven’t already been invited then please email ian@weaf.co.uk \nKey topics to be confirmed. \n\n  \nThere will be plenty of opportunity to informally network during the event\, so we encourage all guests to grab a coffee and start chatting to the person next to you! \nWEAF will replicate this format with future regional Cluster Days to allow you to collaborate\, share and promote your capabilities and ideas across the entire membership.
URL:https://www.weaf.co.uk/event/members-bristol-bath-cluster-meeting/
LOCATION:Cross Manufacturing\, Hopton Rd\, Devizes\, SN10 2EU\, United Kingdom
CATEGORIES:Face to Face,Cluster Meeting
ATTACH;FMTTYPE=image/png:https://www.weaf.co.uk/wp-content/uploads/2024/07/Workshops-3.png
ORGANIZER;CN="WEAF":MAILTO:events@weaf.co.uk
END:VEVENT
BEGIN:VEVENT
DTSTART;TZID=Europe/London:20240717T170000
DTEND;TZID=Europe/London:20240717T210000
DTSTAMP:20260420T161400
CREATED:20240625T140735Z
LAST-MODIFIED:20240625T140735Z
UID:10000157-1721235600-1721250000@www.weaf.co.uk
SUMMARY:BBQ Event - Celebrating the Somerset Innovation Programme
DESCRIPTION:An exclusive BBQ networking evening\, in joint celebration of the great success of the (Somerset Innovation Network Programme)\, aka Si-Net programme for SMEs in Somerset and Dorset first year and the fabulous innovation facility\, the I-Aero Centre Yeovil. \nThis event is part of our ongoing strategy to facilitate regular meetups for various clusters across the region\, promoting collaboration and growth offering a unique opportunity for managing directors and senior executives to get together\, share insights\, and celebrate our collective achievements. \nPlease note that this event is invite only\, member’s will be invited to their local cluster events. If you have any questions please contact events@weaf.co.uk \n\n\n\n\n 
URL:https://www.weaf.co.uk/event/bbq-event-celebrating-the-somerset-innovation-programme/
LOCATION:iAero Center\, iAero Centre\, Bunford Lane\, Yeovil\, Somerset\, BA20
CATEGORIES:Face to Face,Somerset Innovation Network,Cluster Meeting
ATTACH;FMTTYPE=image/png:https://www.weaf.co.uk/wp-content/uploads/2024/06/BBQ-Invite-2.png
ORGANIZER;CN="WEAF":MAILTO:events@weaf.co.uk
END:VEVENT
BEGIN:VEVENT
DTSTART;TZID=Europe/London:20240425T091500
DTEND;TZID=Europe/London:20240425T130000
DTSTAMP:20260420T161400
CREATED:20240313T093846Z
LAST-MODIFIED:20240318T103233Z
UID:10000152-1714036500-1714050000@www.weaf.co.uk
SUMMARY:Member's Devon & Cornwall Cluster Meeting
DESCRIPTION:The purpose of this WEAF Cluster Day is to allow members within their area to showcase their organisation’s capabilities and network with other members. This enables the members to develop business opportunities and make new connections. \nThis free to attend Cluster Day will take place on 25th April 2024\, 09:15am – 1pm\, and will kindly be hosted by Eurotech Group.  \nMember’s are invited to join our cluster meetings based on their regional location\, if you wish to attend and haven’t already been invited then please email ian@weaf.co.uk \nKey WEAF updates include: \n\nLaunching a FREE Baseline Assessment Tool to prepare your business for SC21\nSharing up to date industry news within the regional Cluster (Presentation for invitees within the to present their capabilities).\nSharing the latest updates on plans to support the membership in the Southwest\nShowcasing the WEAF Network Portal to make sure your company profile is up to date as we launch out to all procurement teams\nUpdates on events\n\n  \n\n  \nThere will be plenty of opportunity to informally network during the event\, so we encourage all guests to grab a coffee and start chatting to the person next to you! \nWEAF will replicate this format with future regional Cluster Days to allow you to collaborate\, share and promote your capabilities and ideas across the entire membership.
URL:https://www.weaf.co.uk/event/members-devon-cornwall-cluster-meeting/
LOCATION:EuroTech Group\, Salterton Rd\, Exmouth\, EX8 4RZ
CATEGORIES:Face to Face,Cluster Meeting
ATTACH;FMTTYPE=image/png:https://www.weaf.co.uk/wp-content/uploads/2024/03/Workshops-3-1.png
ORGANIZER;CN="WEAF":MAILTO:events@weaf.co.uk
END:VEVENT
BEGIN:VEVENT
DTSTART;TZID=Europe/London:20240221T090000
DTEND;TZID=Europe/London:20240221T130000
DTSTAMP:20260420T161400
CREATED:20240213T113239Z
LAST-MODIFIED:20240213T113523Z
UID:10000149-1708506000-1708520400@www.weaf.co.uk
SUMMARY:Member's Devon & Dorset Cluster Meeting
DESCRIPTION:The purpose of this WEAF Cluster Days are to allow members within their cluster to showcase their organisation’s capabilities and network with other members. Enabling members to develop business opportunities and make new connections. \nThis free to attend Cluster Day will take place on 21st February 2024\, 09:00am – 1pm\, and will kindly be hosted by Norco Composites.  \nMember’s are invited to join our cluster meetings based on their regional location\, if you wish to attend and haven’t already been invited then please email ian@weaf.co.uk \nKey WEAF updates include: \n\nLaunching a FREE Baseline Assessment Tool to prepare your business for SC21\nSharing up to date industry news within the regional Cluster (Presentation for invitees within the to present their capabilities).\nSharing the latest updates on plans to support the membership in the Southwest\nShowcasing the WEAF Network Portal to make sure your company profile is up to date as we launch out to all procurement teams\nUpdates on events\n\n  \n\n  \nAgenda: \n8.30 attendees arrive at Norco\, coffee\, introductions \n9.00 WEAF introduction\, Clusters\, SC21 update\, latest news and events \n9.25 Norco Composites presentation \n9.35 Member presentations/introductions \n10.30 Coffee break and networking \n11.00 Member presentations/introductions \n11.30 Question and Answer session (WEAF and members) \n12.00 Factory tour\, Norco Composites \n12.30 Closing remarks \n12.45 Departure \n  \n\n  \nThere will be plenty of opportunity to informally network during the event\, so we encourage all guests to grab a coffee and start chatting to the person next to you! \nWEAF will replicate this format with future regional Cluster Days to allow you to collaborate\, share and promote your capabilities and ideas across the entire membership.
URL:https://www.weaf.co.uk/event/members-devon-dorset-cluster-meeting/
LOCATION:Online\, Online\, United Kingdom
CATEGORIES:Face to Face,Cluster Meeting
ATTACH;FMTTYPE=image/png:https://www.weaf.co.uk/wp-content/uploads/2024/02/Workshops-3.png
ORGANIZER;CN="WEAF":MAILTO:events@weaf.co.uk
END:VEVENT
END:VCALENDAR