BEGIN:VCALENDAR
VERSION:2.0
PRODID:-//ADS South West - ECPv6.15.20//NONSGML v1.0//EN
CALSCALE:GREGORIAN
METHOD:PUBLISH
X-WR-CALNAME:ADS South West
X-ORIGINAL-URL:https://www.weaf.co.uk
X-WR-CALDESC:Events for ADS South West
REFRESH-INTERVAL;VALUE=DURATION:PT1H
X-Robots-Tag:noindex
X-PUBLISHED-TTL:PT1H
BEGIN:VTIMEZONE
TZID:Europe/London
BEGIN:DAYLIGHT
TZOFFSETFROM:+0000
TZOFFSETTO:+0100
TZNAME:BST
DTSTART:20240331T010000
END:DAYLIGHT
BEGIN:STANDARD
TZOFFSETFROM:+0100
TZOFFSETTO:+0000
TZNAME:GMT
DTSTART:20241027T010000
END:STANDARD
BEGIN:DAYLIGHT
TZOFFSETFROM:+0000
TZOFFSETTO:+0100
TZNAME:BST
DTSTART:20250330T010000
END:DAYLIGHT
BEGIN:STANDARD
TZOFFSETFROM:+0100
TZOFFSETTO:+0000
TZNAME:GMT
DTSTART:20251026T010000
END:STANDARD
BEGIN:DAYLIGHT
TZOFFSETFROM:+0000
TZOFFSETTO:+0100
TZNAME:BST
DTSTART:20260329T010000
END:DAYLIGHT
BEGIN:STANDARD
TZOFFSETFROM:+0100
TZOFFSETTO:+0000
TZNAME:GMT
DTSTART:20261025T010000
END:STANDARD
END:VTIMEZONE
BEGIN:VEVENT
DTSTART;TZID=Europe/London:20250312T140000
DTEND;TZID=Europe/London:20250312T150000
DTSTAMP:20260420T022242
CREATED:20241212T115422Z
LAST-MODIFIED:20250212T114530Z
UID:10000172-1741788000-1741791600@www.weaf.co.uk
SUMMARY:Webinar Series: Cyber Security
DESCRIPTION:Why Should You Attend? \nCybercrime is one of the biggest risks facing businesses today\, with even small companies being targeted by increasingly sophisticated attacks. Attending this interactive webinar will help you understand the threats and how to protect your business more effectively. You will gain practical advice and tools to boost your cyber security. The session will keep you engaged with an interactive myth busting session. Learn how to take some simple steps to stay safe online. \nWhat You’ll Learn: \n\nThe most common cyber threats facing businesses with examples\, and how to spot them.\nSimple\, practical steps to protect your organisation and improve your cyber resilience.\nThe benefits of free resources like the Cyber Resilience Programme and how to join.\nInformation on additional support services available through the Cyber Path initiative.\nHow to stay informed about emerging cyber risks and respond effectively.\nAnswers to your specific cyber security questions through an interactive Q&A session.\n\nMake your business safer online—don’t miss out.
URL:https://www.weaf.co.uk/event/webinar-series-cyber-security/
LOCATION:Online\, Online\, United Kingdom
CATEGORIES:Webinar
ATTACH;FMTTYPE=image/webp:https://www.weaf.co.uk/wp-content/uploads/2024/12/cybersecurity-concept-user-privacy-security-600nw-2137304159.webp
ORGANIZER;CN="WEAF":MAILTO:events@weaf.co.uk
END:VEVENT
BEGIN:VEVENT
DTSTART;TZID=Europe/London:20250326T110000
DTEND;TZID=Europe/London:20250326T120000
DTSTAMP:20260420T022242
CREATED:20250219T102427Z
LAST-MODIFIED:20250219T102533Z
UID:10000179-1742986800-1742990400@www.weaf.co.uk
SUMMARY:Webinar Series: EU & UK CBAM
DESCRIPTION:Practical understanding and insights on navigating the Carbon Border Adjustment Mechanism \nCBAM (Carbon Border Adjustment Mechanism) introduces a complex system of carbon tariffs on imports into the EU\, covering sectors including iron\, steel and aluminium (plus cement\, fertilizer\, hydrogen and electricity) — industries known for their high carbon intensity. The Transitional (or trial) Period which started in Oct 2023 has meant that companies inside the EU who import goods from outside the EU that fall within a defined list of import codes\, must provide a quarterly CBAM return to declare specific embedded greenhouse gas emissions. From Jan 2026\, the importer will be required to purchase corresponding CBAM certificates\, reflecting the cost of carbon emissions priced within the EU Emissions Trading Scheme (ETS). Therefore\, potentially making some imported goods more expensive than they are today. UK exporters are already seeing requests from their EU customers to provide embedded emissions declarations. How this information is calculated and provided not only affects compliance\, but also the perceived cost of goods from Jan 2026. \nUK CBAM is a similar scheme but will affect UK importers of iron\, steel and aluminium. This starts from Jan 2027\, there is no Transitional Period\, and taxes will be applied on embedded carbon emissions of imports from day one. \nMark Miller and Paul Thomas of Auditel (UK) Limited\, a Carbon Solutions company\, will deliver this webinar to introduce and take questions about managing EU CBAM requirements today and preparing for UK CBAM.
URL:https://www.weaf.co.uk/event/webinar-series-eu-uk-cbam/
LOCATION:Online\, Online\, United Kingdom
CATEGORIES:Webinar
ATTACH;FMTTYPE=image/jpeg:https://www.weaf.co.uk/wp-content/uploads/2025/02/West-of-England-Aerospace-Forum-scaled-e1739960726184.jpg
ORGANIZER;CN="WEAF":MAILTO:events@weaf.co.uk
END:VEVENT
END:VCALENDAR