BEGIN:VCALENDAR
VERSION:2.0
PRODID:-//ADS South West - ECPv6.15.20//NONSGML v1.0//EN
CALSCALE:GREGORIAN
METHOD:PUBLISH
X-ORIGINAL-URL:https://www.weaf.co.uk
X-WR-CALDESC:Events for ADS South West
REFRESH-INTERVAL;VALUE=DURATION:PT1H
X-Robots-Tag:noindex
X-PUBLISHED-TTL:PT1H
BEGIN:VTIMEZONE
TZID:Europe/London
BEGIN:DAYLIGHT
TZOFFSETFROM:+0000
TZOFFSETTO:+0100
TZNAME:BST
DTSTART:20240331T010000
END:DAYLIGHT
BEGIN:STANDARD
TZOFFSETFROM:+0100
TZOFFSETTO:+0000
TZNAME:GMT
DTSTART:20241027T010000
END:STANDARD
BEGIN:DAYLIGHT
TZOFFSETFROM:+0000
TZOFFSETTO:+0100
TZNAME:BST
DTSTART:20250330T010000
END:DAYLIGHT
BEGIN:STANDARD
TZOFFSETFROM:+0100
TZOFFSETTO:+0000
TZNAME:GMT
DTSTART:20251026T010000
END:STANDARD
BEGIN:DAYLIGHT
TZOFFSETFROM:+0000
TZOFFSETTO:+0100
TZNAME:BST
DTSTART:20260329T010000
END:DAYLIGHT
BEGIN:STANDARD
TZOFFSETFROM:+0100
TZOFFSETTO:+0000
TZNAME:GMT
DTSTART:20261025T010000
END:STANDARD
END:VTIMEZONE
BEGIN:VEVENT
DTSTART;TZID=Europe/London:20251021T110000
DTEND;TZID=Europe/London:20251021T120000
DTSTAMP:20260419T151316
CREATED:20250819T142202Z
LAST-MODIFIED:20250819T142202Z
UID:10000192-1761044400-1761048000@www.weaf.co.uk
SUMMARY:WEAF Webinar Series: Is your business ready for AI?
DESCRIPTION:AI is creating unprecedented opportunities across industries – but do you know where your business stands? \nWEAF\, Code Institute\, New Icon\, and Sandler South West\, invite you to take part in the AI Maturity Assessment – a FREE initiative designed to help you understand your AI readiness and identify the right next steps. \nKick-start your journey with our introductory webinar on 21st October 2025. Afterwards\, you’ll gain access to the AI Maturity Assessment to complete in your own time\, alongside 2 short educational workshops\, all provided at no cost. \nWhether you’re just starting to explore AI or looking to enhance existing capabilities\, this expert-guided process provides the clarity and confidence you need. \nKey Topics: \n\nUK AI statistics and trends\nExpert tips on AI strategy implementation\nWhat is AI Maturity Assessment\nBenefits and how to get assessed\n\n  \nWhat you’ll get: \n\nA personalised report showing exactly where your business stands in its AI journey\nA benchmark across six key areas: Strategy\, Value\, Data\, Technology\, People\, and Governance\nActionable recommendations to bridge capability gaps and plan your next steps\nAccess to expert-led workshops to make AI concepts clear and practical\n\n  \nThis is the simplest\, most supported way to discover how AI can work for you.
URL:https://www.weaf.co.uk/event/weaf-webinar-series-is-your-business-ready-for-ai/
LOCATION:Online\, Online\, United Kingdom
CATEGORIES:Webinar
ATTACH;FMTTYPE=image/png:https://www.weaf.co.uk/wp-content/uploads/2025/08/AI-Assessment-Email-Header-Outreach-Pack-Partners-WEAF.png
ORGANIZER;CN="WEAF":MAILTO:events@weaf.co.uk
END:VEVENT
END:VCALENDAR