BEGIN:VCALENDAR
VERSION:2.0
PRODID:-//ADS South West - ECPv6.15.20//NONSGML v1.0//EN
CALSCALE:GREGORIAN
METHOD:PUBLISH
X-ORIGINAL-URL:https://www.weaf.co.uk
X-WR-CALDESC:Events for ADS South West
REFRESH-INTERVAL;VALUE=DURATION:PT1H
X-Robots-Tag:noindex
X-PUBLISHED-TTL:PT1H
BEGIN:VTIMEZONE
TZID:Europe/London
BEGIN:DAYLIGHT
TZOFFSETFROM:+0000
TZOFFSETTO:+0100
TZNAME:BST
DTSTART:20250330T010000
END:DAYLIGHT
BEGIN:STANDARD
TZOFFSETFROM:+0100
TZOFFSETTO:+0000
TZNAME:GMT
DTSTART:20251026T010000
END:STANDARD
BEGIN:DAYLIGHT
TZOFFSETFROM:+0000
TZOFFSETTO:+0100
TZNAME:BST
DTSTART:20260329T010000
END:DAYLIGHT
BEGIN:STANDARD
TZOFFSETFROM:+0100
TZOFFSETTO:+0000
TZNAME:GMT
DTSTART:20261025T010000
END:STANDARD
BEGIN:DAYLIGHT
TZOFFSETFROM:+0000
TZOFFSETTO:+0100
TZNAME:BST
DTSTART:20270328T010000
END:DAYLIGHT
BEGIN:STANDARD
TZOFFSETFROM:+0100
TZOFFSETTO:+0000
TZNAME:GMT
DTSTART:20271031T010000
END:STANDARD
END:VTIMEZONE
BEGIN:VEVENT
DTSTART;TZID=Europe/London:20260324T090000
DTEND;TZID=Europe/London:20260324T130000
DTSTAMP:20260422T231117
CREATED:20260309T102832Z
LAST-MODIFIED:20260309T102832Z
UID:10000212-1774342800-1774357200@www.weaf.co.uk
SUMMARY:Cheltenham & Gloucester Cluster Meeting
DESCRIPTION:Members are invited to Join the team for the Cheltenham & Gloucester Cluster Meeting \nOur cluster meetings are the perfect opportunity for members to strengthen connections\, share ideas\, and stay informed on key industry developments. \nWhy Attend? \nCuster meetings are designed to bring members together in a relaxed and welcoming environment where you can: \n\nNetwork with fellow WEAF/ADS South West members\nIntroduce your business and raise your profile\nShare experiences and explore collaboration opportunities\nGain valuable industry updates\nBuild meaningful new contacts\nPlenty of Time for Networking\n\n  \nWe understand that connections matter. That’s why we ensure there is dedicated time for open discussion and networking — so you can meet new people\, exchange ideas\, and continue conversations in a friendly\, professional setting. \nIf you would like to attend simply email events@weaf.co.uk
URL:https://www.weaf.co.uk/event/cheltenham-gloucester-cluster-meeting-2/
LOCATION:Gloucester\, Gloucester\, United Kingdom
CATEGORIES:Face to Face,Cluster Meeting
ATTACH;FMTTYPE=image/jpeg:https://www.weaf.co.uk/wp-content/uploads/2026/02/Image-2026-02-24-11.jpeg
ORGANIZER;CN="WEAF":MAILTO:events@weaf.co.uk
END:VEVENT
BEGIN:VEVENT
DTSTART;TZID=Europe/London:20260421T110000
DTEND;TZID=Europe/London:20260421T123000
DTSTAMP:20260422T231117
CREATED:20260127T143406Z
LAST-MODIFIED:20260309T105026Z
UID:10000210-1776769200-1776774600@www.weaf.co.uk
SUMMARY:Webinar Series: FIA Masterclass
DESCRIPTION:Farnborough International Air Show (FIA) is a major investment of time\, money\, and energy—so it’s essential to arrive prepared and leave with real results. \nTo help members get maximum value from FIA this year\, the WEAF team has brought together a panel of experienced industry professionals who know the show inside out. Whether you’re attending as an exhibitor or walking the floor\, this practical webinar will ensure you feel confident\, organised\, and ready to make the most of every opportunity. \nWhat you can expect \nOur expert panel will offer practical advice to help you plan effectively\, engage confidently during the event\, and follow up successfully afterwards. \nSubjects will include: \n\nWhat to expect at FIA as both an attendee and an exhibitor\nPerspectives on FIA and how it compares with DSEI\nTrade show sales best practice and engagement techniques\nMarketing planning and communications before\, during\, and after the show\nBest practice for collaborating with partners and stakeholders\n\nPractical\, top tips\, including: \n\nHow and where to approach people\nThe best places to meet and network\nPlanning your diary and managing your time\nFood\, timings\, and navigating the show efficiently\nWhat you can prepare in advance to get ahead\n\nThis webinar is designed to give you clear\, practical advice—to help you walk into FIA prepared and achieve real results.
URL:https://www.weaf.co.uk/event/webinar-series-fia-masterclass/
LOCATION:Online\, Online\, United Kingdom
CATEGORIES:Virtual,Webinar
ATTACH;FMTTYPE=image/jpeg:https://www.weaf.co.uk/wp-content/uploads/2026/01/hall-1.jpg
ORGANIZER;CN="WEAF":MAILTO:events@weaf.co.uk
END:VEVENT
BEGIN:VEVENT
DTSTART;TZID=Europe/London:20260428T110000
DTEND;TZID=Europe/London:20260428T120000
DTSTAMP:20260422T231117
CREATED:20260319T103404Z
LAST-MODIFIED:20260319T103404Z
UID:10000213-1777374000-1777377600@www.weaf.co.uk
SUMMARY:Webinar: Network Portal Support
DESCRIPTION:Make the most out of your Digital Network Portal\, your central hub for connecting\, showcasing capabilities\, and collaborating with businesses across the aerospace\, advanced manufacturing\, and defence community in the South West. \nJoin us for hands on support and key updates. \n  \nWhat’s New? \nThe new portal has been created based on user feedback and it will be: \n\nEasier to use and more intuitive\nPacked with new features\, including:\n\n– An up-to-date events calendar \n– Member-to-member collaboration tools \n– The ability to post updates and engage directly among the WEAF membership and beyond \n– Digital clusters- Knowledge hub \n– Training opportunities \nPlease note this is a member-only event. If you wish to join WEAF or find out more please contact us by emailing enquiries@weaf.co.uk
URL:https://www.weaf.co.uk/event/webinar-network-portal-support/
LOCATION:Online\, Online\, United Kingdom
CATEGORIES:Virtual,Webinar
ATTACH;FMTTYPE=image/png:https://www.weaf.co.uk/wp-content/uploads/2025/08/New-NP.png
ORGANIZER;CN="WEAF":MAILTO:events@weaf.co.uk
END:VEVENT
BEGIN:VEVENT
DTSTART;TZID=Europe/London:20260430T093000
DTEND;TZID=Europe/London:20260430T130000
DTSTAMP:20260422T231117
CREATED:20260212T105608Z
LAST-MODIFIED:20260325T113516Z
UID:10000211-1777541400-1777554000@www.weaf.co.uk
SUMMARY:Bristol & Bath Cluster Meeting – Spotlight on Anduril
DESCRIPTION:Member are invited to Join the team for the Bristol & Bath Cluster Meeting – Anduril in the Spotlight \nOur Bristol & Bath Cluster Meeting is the perfect opportunity for members to strengthen connections\, share ideas\, and stay informed on key industry developments. \nThe upcoming event at Filton\, will put Anduril firmly in the spotlight. During this session\, Anduril will present its strategy\, products\, and its aims and objectives for the UK\, offering an overview of one of our sector’s most innovative organisations. \n  \nWhy Attend? \nCluster meetings are designed to bring members together in a relaxed and welcoming environment where you can: \n\nNetwork with fellow WEAF/ADS South West members\nIntroduce your business and raise your profile\nShare experiences and explore collaboration opportunities\nGain valuable industry updates\nBuild meaningful new contacts\nPlenty of Time for Networking\n\n  \nWe understand that connections matter. That’s why we ensure there is dedicated time for open discussion and networking — so you can meet new people\, exchange ideas\, and continue conversations in a friendly\, professional setting. \nIf you would like to attend simply email events@weaf.co.uk
URL:https://www.weaf.co.uk/event/bristol-bath-cluster-meeting-spotlight-on-anduril/
LOCATION:Bristol\, Bristol
CATEGORIES:Face to Face,Cluster Meeting
ATTACH;FMTTYPE=image/jpeg:https://www.weaf.co.uk/wp-content/uploads/2025/05/Round-up-4.jpg
ORGANIZER;CN="WEAF":MAILTO:events@weaf.co.uk
END:VEVENT
BEGIN:VEVENT
DTSTART;TZID=Europe/London:20260602T083000
DTEND;TZID=Europe/London:20260602T163000
DTSTAMP:20260422T231117
CREATED:20260119T112511Z
LAST-MODIFIED:20260219T110159Z
UID:10000209-1780389000-1780417800@www.weaf.co.uk
SUMMARY:Summer Golf Day
DESCRIPTION:We are delighted to announce that the next Summer Golf Day is confirmed and bookings are now open. \nThis popular and much-anticipated event will take place at Thornbury Golf Centre on Monday 2nd June. The competition will be played in a Stableford format\, \nWhile there are prizes up for grabs\, the day is about much more than winning. It’s a chance to enjoy a fantastic round of golf\, connect with fellow WEAF members and guests\, and build relationships in a relaxed and social setting. \nWEAF Golf Days offer an excellent opportunity to network\, catch up on business news\, reward employees\, entertain colleagues\, and simply enjoy a great day out. \n  \nWhat’s included: \nCoffee and bacon rolls on arrival from 8.30 am \nA one-course meal and prize giving after the round \nThe first tee time is 09:30 am\, promising a full day of golf\, conversation and fun. \nThis event is open to members\, and non member\, and we look forward to welcoming you to another memorable Golf Day. \n \n  \n  \n  \n  \n  \n  \nKindly supported by Scott Aerospace  \n\n  \n  \n  \n 
URL:https://www.weaf.co.uk/event/summer-golf-day/
LOCATION:Thornbury Golf Centre\, Bristol Road\, Thornbury\, Gloucestershire\, BS35 3XL
CATEGORIES:Face to Face
ATTACH;FMTTYPE=image/jpeg:https://www.weaf.co.uk/wp-content/uploads/2026/01/Thornbury-Golf-Club.jpg
ORGANIZER;CN="WEAF":MAILTO:events@weaf.co.uk
END:VEVENT
BEGIN:VEVENT
DTSTART;TZID=Europe/London:20260720T090000
DTEND;TZID=Europe/London:20260724T170000
DTSTAMP:20260422T231117
CREATED:20230510T084842Z
LAST-MODIFIED:20251209T091158Z
UID:10000120-1784538000-1784912400@www.weaf.co.uk
SUMMARY:Farnborough International Airshow 2026
DESCRIPTION:The Farnborough International Air Show provides the ultimate networking hub allowing you to connect with key Aerospace and Defence decision makers whilst showcasing your brand on a global scale – Join us on the WEAF stand!\nFor the first time ever\, WEAF is partnering with ADS to bring you exclusive discounts – making participation more cost-effective than ever before. Don’t miss this opportunity to showcase your business on a global stage while saving more than ever. \n  \n\n\nMake your business stand out with our exclusive exhibiting and advertising opportunities:\n  \nExhibitor Pod Package \nBranded exhibitor pod for duration of show to include: \n\nDesk area with stall\nGraphics/logo area\nAccess to ADS stand hospitality & meeting space\nWEAF support pre-show\, onsite and post-show\nLockable storage cabinet\nMarketing ‘shoutout’ via WEAF newsletter\, social media and website!\n20 Second video included on the WEAF screen (up to 4 slides)\nTV monitors available as an optional extra\nBadge allocation and registration\n\n  \nHot Desk Package \n\nOne day hire of pod at the show (this desk is on a prominent\, well exposed position on the stand)\nOption for your marketing material to be displayed on the stand throughout the show\nAccess to ADS stand hospitality & meeting space\nWEAF support pre-show\, onsite and post-show\nLockable storage cabinet and stool\nMarketing ‘shoutout’ via WEAF newsletter\, social media and website\n20 Second video included on the WEAF screen (up to 4 slides)\nTV monitor\nDaily visitor badge allocation and registration\n\n  \nVideo Advertising Packages \nWEAF understands that attendance at FIA 2026 is not within everyone’s capabilities therefore we have put together marketing packages to ensure your business is seen by the 1000s of people that visit FIA – even if you can’t be there. \n\nGold Advertising Package -  30 seconds/6 slides\nSilver Advertising Package -  20 seconds/4 slides\nBronze Advertising Package -  10 seconds /2 slides\n\n  \nMarketing Package \nGain some valuable brand exposure at one of the worlds largest trade shows. Limited packages available. \n\nPrinted logo & QR Code on the WEAF stand\n30 second video\n50 A5 tri-folded leaflets\n3 Social media posts\, pre\, during and post show\n\n  \nPlease contact events@weaf.co.uk to find out more. \n  \n  \n  \n  \n  \n  \n 
URL:https://www.weaf.co.uk/event/farnborough-international-airshow-2026/
LOCATION:Farnborough International Exhibition and Conference Center\, Farnborough International Center\, ETPS Road\, Farnborough\, GU14 6FD
CATEGORIES:Face to Face
ATTACH;FMTTYPE=image/jpeg:https://www.weaf.co.uk/wp-content/uploads/2024/07/Group-pic.jpg
ORGANIZER;CN="WEAF":MAILTO:events@weaf.co.uk
END:VEVENT
BEGIN:VEVENT
DTSTART;TZID=Europe/London:20260901T090000
DTEND;TZID=Europe/London:20260901T160000
DTSTAMP:20260422T231117
CREATED:20250130T091200Z
LAST-MODIFIED:20260127T145023Z
UID:10000174-1788253200-1788278400@www.weaf.co.uk
SUMMARY:Coming Soon: Annual Conference & Expo 2026 (Date TBC)
DESCRIPTION:Get ready for the South West’s premier aerospace and advanced manufacturing event. The WEAF Annual Conference 2026 will once again bring together industry leaders\, innovators\, and key decision-makers to explore the future of aerospace\, defence\, and advanced manufacturing. \nThis flagship event offers unrivalled networking opportunities — connect with influential organisations\, build meaningful partnerships\, and share insights with the brightest minds in the industry. Whether you’re an SME or a global player\, this is your chance to collaborate\, learn\, and grow within the UK’s thriving aerospace community. \n📅 Full event details\, speakers\, and registration information will be announced soon. \nTo join the interest list and be the first to receive updates\, please contact events@weaf.co.uk
URL:https://www.weaf.co.uk/event/weaf-annual-conference-expo-2026/
LOCATION:TBC\, TBC\, United Kingdom
CATEGORIES:Face to Face
ATTACH;FMTTYPE=image/jpeg:https://www.weaf.co.uk/wp-content/uploads/2025/05/Round-up-11.jpg
ORGANIZER;CN="WEAF":MAILTO:events@weaf.co.uk
END:VEVENT
END:VCALENDAR