BEGIN:VCALENDAR
VERSION:2.0
PRODID:-//ADS South West - ECPv6.15.20//NONSGML v1.0//EN
CALSCALE:GREGORIAN
METHOD:PUBLISH
X-WR-CALNAME:ADS South West
X-ORIGINAL-URL:https://www.weaf.co.uk
X-WR-CALDESC:Events for ADS South West
REFRESH-INTERVAL;VALUE=DURATION:PT1H
X-Robots-Tag:noindex
X-PUBLISHED-TTL:PT1H
BEGIN:VTIMEZONE
TZID:Europe/London
BEGIN:DAYLIGHT
TZOFFSETFROM:+0000
TZOFFSETTO:+0100
TZNAME:BST
DTSTART:20240331T010000
END:DAYLIGHT
BEGIN:STANDARD
TZOFFSETFROM:+0100
TZOFFSETTO:+0000
TZNAME:GMT
DTSTART:20241027T010000
END:STANDARD
BEGIN:DAYLIGHT
TZOFFSETFROM:+0000
TZOFFSETTO:+0100
TZNAME:BST
DTSTART:20250330T010000
END:DAYLIGHT
BEGIN:STANDARD
TZOFFSETFROM:+0100
TZOFFSETTO:+0000
TZNAME:GMT
DTSTART:20251026T010000
END:STANDARD
BEGIN:DAYLIGHT
TZOFFSETFROM:+0000
TZOFFSETTO:+0100
TZNAME:BST
DTSTART:20260329T010000
END:DAYLIGHT
BEGIN:STANDARD
TZOFFSETFROM:+0100
TZOFFSETTO:+0000
TZNAME:GMT
DTSTART:20261025T010000
END:STANDARD
END:VTIMEZONE
BEGIN:VEVENT
DTSTART;TZID=Europe/London:20250123T090000
DTEND;TZID=Europe/London:20250123T130000
DTSTAMP:20260422T115315
CREATED:20241031T110915Z
LAST-MODIFIED:20250109T111831Z
UID:10000167-1737622800-1737637200@www.weaf.co.uk
SUMMARY:Member's Somerset Cluster Meeting
DESCRIPTION:The purpose of this WEAF Cluster Day is to allow members within their area to learn and network with other members. This enables the members to develop business opportunities and make new connections. \nThis free to attend Cluster Day will take place on 23rd January in Chard\, Somerset. Due to security purposes we will only update delegates on the venue. \nMember’s are invited to join our cluster meetings based on their regional location\, if you wish to attend and haven’t already been invited then please email ian@weaf.co.uk \nKey topics to be confirmed. \n\n  \nThere will be plenty of opportunity to informally network during the event\, so we encourage all guests to grab a coffee and start chatting to the person next to you! \nWEAF will replicate this format with future regional Cluster Days to allow you to collaborate\, share and promote your capabilities and ideas across the entire membership.
URL:https://www.weaf.co.uk/event/members-somerset-cluster-meeting/
LOCATION:Chard\, Yonder Hill\, Chard Junction\, Somerset\, TA20\, United Kingdom
CATEGORIES:Face to Face,Cluster Meeting
ATTACH;FMTTYPE=image/jpeg:https://www.weaf.co.uk/wp-content/uploads/2024/10/Cluster.jpg
ORGANIZER;CN="WEAF":MAILTO:events@weaf.co.uk
END:VEVENT
END:VCALENDAR