BEGIN:VCALENDAR
VERSION:2.0
PRODID:-//ADS South West - ECPv6.15.20//NONSGML v1.0//EN
CALSCALE:GREGORIAN
METHOD:PUBLISH
X-ORIGINAL-URL:https://www.weaf.co.uk
X-WR-CALDESC:Events for ADS South West
REFRESH-INTERVAL;VALUE=DURATION:PT1H
X-Robots-Tag:noindex
X-PUBLISHED-TTL:PT1H
BEGIN:VTIMEZONE
TZID:Europe/London
BEGIN:DAYLIGHT
TZOFFSETFROM:+0000
TZOFFSETTO:+0100
TZNAME:BST
DTSTART:20230326T010000
END:DAYLIGHT
BEGIN:STANDARD
TZOFFSETFROM:+0100
TZOFFSETTO:+0000
TZNAME:GMT
DTSTART:20231029T010000
END:STANDARD
BEGIN:DAYLIGHT
TZOFFSETFROM:+0000
TZOFFSETTO:+0100
TZNAME:BST
DTSTART:20240331T010000
END:DAYLIGHT
BEGIN:STANDARD
TZOFFSETFROM:+0100
TZOFFSETTO:+0000
TZNAME:GMT
DTSTART:20241027T010000
END:STANDARD
BEGIN:DAYLIGHT
TZOFFSETFROM:+0000
TZOFFSETTO:+0100
TZNAME:BST
DTSTART:20250330T010000
END:DAYLIGHT
BEGIN:STANDARD
TZOFFSETFROM:+0100
TZOFFSETTO:+0000
TZNAME:GMT
DTSTART:20251026T010000
END:STANDARD
BEGIN:DAYLIGHT
TZOFFSETFROM:+0000
TZOFFSETTO:+0100
TZNAME:BST
DTSTART:20260329T010000
END:DAYLIGHT
BEGIN:STANDARD
TZOFFSETFROM:+0100
TZOFFSETTO:+0000
TZNAME:GMT
DTSTART:20261025T010000
END:STANDARD
END:VTIMEZONE
BEGIN:VEVENT
DTSTART;TZID=Europe/London:20250605T090000
DTEND;TZID=Europe/London:20250605T163000
DTSTAMP:20260422T101311
CREATED:20250312T115240Z
LAST-MODIFIED:20250324T143738Z
UID:10000180-1749114000-1749141000@www.weaf.co.uk
SUMMARY:WEAF Golf Day
DESCRIPTION:This eagerly anticipated event will be held at Oake Manor Golf Course\, Taunton on 5th June. The event will be run on a Stableford format to enable players of all handicaps to stand an equal chance of winning a prize. \nIt’s not just about the winning\, its about the taking part and enjoying a great day networking with other WEAF members whilst enjoying a round of golf and a meal afterwards. \nGolf days provide a valuable opportunity to make connections\, build networks and catch up with business news\, reward your employees and have fun ! \nCoffee and bacon rolls will be provided before the start and a one course meal after so this is a great day out for any member\, any of your employees or colleagues. \n  \n\n  \nAgenda \n09:00 Arrivals\, networking and refreshments \n10:04 First tee off \n10:36 Final tee off \n15:00 One course meal and prize giving \n  \nBookings are limited to 20 players – make sure you book your place now\, its first come first served! \n  \nThank you to Righton Blackburns Aerospace & Defence for sponsoring this event. \n \n  \n  \n  \n\n  \n   \n 
URL:https://www.weaf.co.uk/event/weaf-golf-day-2/
LOCATION:Oake Manor Golf Club\, Oake\, Taunton\, Somerset\, TA4 1BA\, United Kingdom
CATEGORIES:Face to Face
ATTACH;FMTTYPE=image/jpeg:https://www.weaf.co.uk/wp-content/uploads/2025/03/102_0213.jpg
ORGANIZER;CN="WEAF":MAILTO:events@weaf.co.uk
END:VEVENT
BEGIN:VEVENT
DTSTART;TZID=Europe/London:20240605T090000
DTEND;TZID=Europe/London:20240605T163000
DTSTAMP:20260422T101311
CREATED:20240221T123519Z
LAST-MODIFIED:20240415T080409Z
UID:10000150-1717578000-1717605000@www.weaf.co.uk
SUMMARY:WEAF Golf Day
DESCRIPTION:Booking’s are now closed.  \nThis eagerly anticipated event will be held at Oake Manor Golf Course\, Taunton on Wednesday 5th June. The event will be run on a Stableford format to enable players of all handicaps to stand an equal chance of winning a prize. \nSpeaking of prizes we are very pleased to announce that Rotary Precision Instruments (RPI) based in Bath will sponsor this event and will provide prizes for 1st\, 2nd and 3rd place\, nearest the pin and longest drive. Prizes will be presented at the post-round meal by Peter Marchbank\, MD of RPI and chairman of WEAF \nIt’s not just about the winning\, its about the taking part and enjoying a great day networking with other WEAF members whilst enjoying a round of golf and a meal afterwards. \nGolf days provide a valuable opportunity to make connections\, build networks and catch up with business news\, reward your employees and have fun ! \nCoffee and bacon rolls will be provided before the start and a one course meal after so this is a great day out for any member\, any of your employees or colleagues. \n\n  \nAgenda \n09:00 Arrivals\, networking and refreshments \n10:04 First tee off \n10:36 Final tee off \n15:00 One course meal and prize giving \n  \nBookings are limited to 20 players – make sure you book your place now\, its first come first served! \nThank you to RPI for supporting this event. \n \n  \n  \n  \n  \n\n  \n    \n 
URL:https://www.weaf.co.uk/event/weaf-golf-day/
LOCATION:Oake Manor Golf Club\, Oake\, Taunton\, Somerset\, TA4 1BA\, United Kingdom
CATEGORIES:Face to Face
ATTACH;FMTTYPE=image/png:https://www.weaf.co.uk/wp-content/uploads/2024/02/Golf-Day.png
ORGANIZER;CN="WEAF":MAILTO:events@weaf.co.uk
END:VEVENT
END:VCALENDAR